BEGIN:VCALENDAR
VERSION:2.0
PRODID:-//Tholen Sterk - ECPv6.15.20//NONSGML v1.0//EN
CALSCALE:GREGORIAN
METHOD:PUBLISH
X-WR-CALNAME:Tholen Sterk
X-ORIGINAL-URL:https://www.tholensterk.nl
X-WR-CALDESC:Evenementen voor Tholen Sterk
REFRESH-INTERVAL;VALUE=DURATION:PT1H
X-Robots-Tag:noindex
X-PUBLISHED-TTL:PT1H
BEGIN:VTIMEZONE
TZID:Europe/Amsterdam
BEGIN:DAYLIGHT
TZOFFSETFROM:+0100
TZOFFSETTO:+0200
TZNAME:CEST
DTSTART:20210328T010000
END:DAYLIGHT
BEGIN:STANDARD
TZOFFSETFROM:+0200
TZOFFSETTO:+0100
TZNAME:CET
DTSTART:20211031T010000
END:STANDARD
BEGIN:DAYLIGHT
TZOFFSETFROM:+0100
TZOFFSETTO:+0200
TZNAME:CEST
DTSTART:20220327T010000
END:DAYLIGHT
BEGIN:STANDARD
TZOFFSETFROM:+0200
TZOFFSETTO:+0100
TZNAME:CET
DTSTART:20221030T010000
END:STANDARD
BEGIN:DAYLIGHT
TZOFFSETFROM:+0100
TZOFFSETTO:+0200
TZNAME:CEST
DTSTART:20230326T010000
END:DAYLIGHT
BEGIN:STANDARD
TZOFFSETFROM:+0200
TZOFFSETTO:+0100
TZNAME:CET
DTSTART:20231029T010000
END:STANDARD
END:VTIMEZONE
BEGIN:VEVENT
DTSTART;TZID=Europe/Amsterdam:20220608T140000
DTEND;TZID=Europe/Amsterdam:20220611T170000
DTSTAMP:20260422T094651
CREATED:20220428T084102Z
LAST-MODIFIED:20220515T001003Z
UID:9546-1654696800-1654966800@www.tholensterk.nl
SUMMARY:Kampement ivm viering 75 jaar bevrijding in 2022
DESCRIPTION:De 2-jaarlijke havendagen in Tholen staan geheel in teken van 75 + 2 jaar vrijheid.  \nBezoek het grootste evenement van de gemeente Tholen voor een uniek dagje uit! Een hele dag vol activiteiten voor jong en oud. Tholen is een ware belevenis!  \nVoor het gehele programma van de havendagen op de andere terreinen verwijzen wij u naar: www.tholensterk.nl \nOnderstaand programma betreft alléén het programma op het kampement: \n✅ DEFINITIEF PROGRAMMA 2022 \n➤ Woensdag 8 juni 2022 ⬇🔴 Opening evenement:19.30 t/m 20.00 uurDe commissaris van de Koning van de Provincie Zeeland\, Han Polman\, zal aanwezig zijn en uiteraard de Burgemeester van de gemeente Tholen. Veteranen en scholieren zullen een speciale plaats innemen. Tevens een optreden van het jeugdorkest van Muziekvereniging Concordia Tholen. Iedereen is welkom. Toost uitbrengen met een gratis oranjebittertje. \n🔴 Militair kampement:20.00 t/m 22.00 uurEen militaire expositie van méér dan 70 oude legervoertuigen\, re-enactors en legertenten. \n🔴 Horeca:19.30 t/m 23.30 uurBetalen is alleen mogelijk met ‘Tholen Sterk consumptiemunten’. \n➤ Donderdag 9 juni 2022 ⬇🔴 Educatie scholen op kampement:09.00 t/m 15.00 uur🔴 Liberation Tour: \n18.00 t/m 21.00 uurMéér dan 70 militaire voertuigen rijden door de volgende kernen: Poortvliet (circa 18.10 uur) – Stavenisse – Sint Maartensdijk – Scherpenisse. \n➤ Vrijdag 10 juni 2022 ⬇🔴 Educatie scholen op kampement:09.00 t/m 15.00 uur \n🔴 Ouderen- en minder validen:13.00 t/m 16.00 uurHet kampement is speciaal open voor deze doelgroep om de drukte van zaterdag te vermijden. \n🔴 Horeca:13.30 t/m 16.30 uur +21.30 t/m 23.59 uurBetalen is alleen mogelijk met ‘Tholen Sterk consumptiemunten’. \n🔴 Liberation Tour:18.00 t/m 21.00 uurMéér dan 70 militaire voertuigen rijden door de volgende kernen: Tholen (circa 17.50 uur) – Oud Vossemeer (circa 18.10 uur) – Anna Jacobapolder (circa 18.35 uur) – Sint Philipsland – Sint Annaland (circa 19.00 uur). \n➤ Zaterdag 11 juni 2022 ⬇🔴 Militair kampement:10.00 t/m 17.00 uurEen militaire expositie van méér dan 70 oude legervoertuigen\, re-enactors en legertenten. \n🔴 Amerikaanse M24 tank:10.00 t/m 17.00 uurWel te bewonderen / niet toegankelijk. \n🔴 Militaire foodtrucks:10.00 t/m 17.00 uurBij het Goulashkanon kun je een lekker broodje rookworst met zuurkool eten. Er wordt geserveerd vanuit een oude militaire veldkeuken uit 1957. Bij de foodtruck van ‘Bitter & Sweet’ kun je terecht voor een lekker broodje bal. Betalen is alleen mogelijk met ‘Tholen Sterk consumptiemunten’. \n🔴 Veldhospitaal:10.00 t/m 17.00 uurThe Holmes Intelligence Office vzw gebruikt de technieken die gebaseerd zijn op de handelingen die werden aangeleerd aan het Royal Army Medical Corps voor en tijdens de Tweede Wereldoorlog. De display richt zich op het uitbeelden van een Britse medische post. \n🔴 Orkest Koninklijke Marechaussee:11.45 t/m 12.45 uur +14.00 t/m 15.00 uurTwee concerten van ieder 60 minuten. \n🔴 Historische vlucht Kon. Luchtmacht:13.00 t/m 13.15 uurNamens de Koninklijke Luchtmacht Historische Vlucht zal er een flyby door een Harvard plaats vinden. \n🔴 Memorial Flight door 2 vliegtuigen:15.00 t/m 15.15 uurDe vliegtuigen ‘Auster’ en ‘Piper’ van Wings to Victory zijn gespoten in de D-Day invasiekleuren\, inclusief de bekende witte strepen en zullen 4 keer over vliegen op 300 meter hoogte. \n🔴 Expositie:10.00 t/m 17.00 uurIn diverse pagodetenten zullen de volgende organisaties expositie houden:– Documentatiegroep ’40-’45– Gemeente Tholen– Museum Memorial 40-45 Kapelle– Museum Wings to Victory– Wapens uit de WO2– Herdenkingspagode gesneuvelden \n🔴 Horeca:10.00 t/m 17.00 uurBetalen is alleen mogelijk met ‘Tholen Sterk consumptiemunten’. \n⬇️ overige belangrijke informatie ⬇️ \n💰 Waar koop je consumptiemunten:> Contre Escarpe: kassa unit.> Kampement: aan de tapwagen.** op het kampement alléén pinnen 📌📷 Er worden foto- en video opnames gemaakt tijdens alle onderdelen van het evenement op alle dagen. Deze opnamen kunnen worden gebruikt door Stichting Tholen Sterk\, zonder dat zij hiertoe een vergoeding en/of een akkoord verschuldigd is aan de bezoekers / deelnemers.Privacyverklaring: https://www.tholensterk.nl/privacystatement \n♿️ Niet rolstoel en rollator toegankelijk:> pontoonbrug> amfibie voertuigen> alle schepen> belevingsvaart \n🚾 Op Contre Escarpe én op de Oesterputten zijn toiletten aanwezig. Deze zijn gratis toegankelijk. Een minder-valide toilet in alléén aanwezig op Contre Escarpe. \n🆘 Op Contre Escarpe\, in de stad én op de Oesterputten zijn Rode Kruis posten aanwezig.ℹ️ Voor vragen en informatie kun je tijdens het evenement terecht bij de kassa-unit tegenover de feesttent op Contre Escarpe. \n🅿️ Een groot deel van Tholen zal zaterdag 11 juni van 07.00 t/m 19.00 uur afgesloten zijn voor het verkeer. Wij adviseren bezoekers daarom de P-borden en de instructies van de verkeersregelaars te volgen om stressvrij en veilig te kunnen parkeren. \n🚌 Vanaf het Centraal Station in Bergen op Zoom is Tholen met het Openbaar Vervoer te bereiken (uitstap halte Grindweg of Ten Ankerweg). Voor meer informatie check de reisplanner van 9292 OV. \n🚴‍♂️ Er zijn diverse fietsenstallingen aanwezig. \nhttps://www.facebook.com/events/174309693839803/
URL:https://www.tholensterk.nl/event/kampement-ivm-viering-75-jaar-bevrijding-in-2022/
LOCATION:Tholen Sterk / Oesterputten – Tholen
CATEGORIES:Havendagen 2022
ATTACH;FMTTYPE=image/jpeg:https://www.tholensterk.nl/wp-content/uploads/2022/04/9546_image_144127329_4031349870249686_6623864794502673796_n.jpg
END:VEVENT
END:VCALENDAR